Package: metapone Version: 1.17.0 Command: /Library/Frameworks/R.framework/Resources/bin/R CMD INSTALL metapone StartedAt: 2025-11-20 15:16:28 -0500 (Thu, 20 Nov 2025) EndedAt: 2025-11-20 15:16:47 -0500 (Thu, 20 Nov 2025) EllapsedTime: 19.3 seconds RetCode: 0 Status: OK