Package: metapone Version: 1.17.0 Command: /Library/Frameworks/R.framework/Resources/bin/R CMD build --keep-empty-dirs --no-resave-data metapone StartedAt: 2025-11-20 17:39:02 -0500 (Thu, 20 Nov 2025) EndedAt: 2025-11-20 17:56:17 -0500 (Thu, 20 Nov 2025) EllapsedTime: 1035.1 seconds RetCode: 0 Status: OK PackageFile: metapone_1.17.0.tar.gz PackageFileSize: 3.745 MiB