Package: metapone Version: 1.17.0 Command: rm -rf metapone.buildbin-libdir && mkdir metapone.buildbin-libdir && /Users/biocbuild/BBS/utils/build-universal.sh metapone_1.17.0.tar.gz /Library/Frameworks/R.framework/Resources/bin/R metapone.buildbin-libdir StartedAt: 2025-11-21 01:42:18 -0500 (Fri, 21 Nov 2025) EndedAt: 2025-11-21 01:42:37 -0500 (Fri, 21 Nov 2025) EllapsedTime: 18.7 seconds RetCode: 0 Status: OK PackageFile: metapone_1.17.0.tgz PackageFileSize: 3.793 MiB