Package: metapone Version: 1.15.0 Command: /Library/Frameworks/R.framework/Resources/bin/R CMD build --keep-empty-dirs --no-resave-data metapone StartedAt: 2025-10-24 16:58:22 -0400 (Fri, 24 Oct 2025) EndedAt: 2025-10-24 17:03:04 -0400 (Fri, 24 Oct 2025) EllapsedTime: 282.0 seconds RetCode: 0 Status: OK PackageFile: metapone_1.15.0.tar.gz PackageFileSize: 3.747 MiB