Package: metapone Version: 1.15.0 Command: rm -rf metapone.buildbin-libdir && mkdir metapone.buildbin-libdir && /Users/biocbuild/BBS/utils/build-universal.sh metapone_1.15.0.tar.gz /Library/Frameworks/R.framework/Resources/bin/R metapone.buildbin-libdir StartedAt: 2025-10-24 23:09:08 -0400 (Fri, 24 Oct 2025) EndedAt: 2025-10-24 23:09:13 -0400 (Fri, 24 Oct 2025) EllapsedTime: 5.1 seconds RetCode: 0 Status: OK PackageFile: metapone_1.15.0.tgz PackageFileSize: 3.796 MiB