Package: metapod Version: 1.17.0 Command: /home/biocbuild/bbs-3.22-bioc/R/bin/R CMD build --keep-empty-dirs --no-resave-data --md5 metapod StartedAt: 2025-10-05 18:34:58 -0400 (Sun, 05 Oct 2025) EndedAt: 2025-10-05 18:35:23 -0400 (Sun, 05 Oct 2025) EllapsedTime: 25.0 seconds RetCode: 0 Status: OK PackageFile: metapod_1.17.0.tar.gz PackageFileSize: 326 KiB