Package: metahdep Version: 1.69.0 Command: /home/biocbuild/bbs-3.23-bioc/R/bin/R CMD INSTALL metahdep StartedAt: 2025-11-20 15:01:50 -0500 (Thu, 20 Nov 2025) EndedAt: 2025-11-20 15:01:54 -0500 (Thu, 20 Nov 2025) EllapsedTime: 4.1 seconds RetCode: 0 Status: OK