Package: metahdep Version: 1.68.0 Command: /Library/Frameworks/R.framework/Resources/bin/R CMD INSTALL metahdep StartedAt: 2025-10-29 21:49:01 -0400 (Wed, 29 Oct 2025) EndedAt: 2025-10-29 21:49:15 -0400 (Wed, 29 Oct 2025) EllapsedTime: 14.1 seconds RetCode: 0 Status: OK