Package: metahdep Version: 1.68.0 Command: /Library/Frameworks/R.framework/Resources/bin/R CMD build --keep-empty-dirs --no-resave-data metahdep StartedAt: 2025-10-30 00:19:20 -0400 (Thu, 30 Oct 2025) EndedAt: 2025-10-30 00:19:34 -0400 (Thu, 30 Oct 2025) EllapsedTime: 14.1 seconds RetCode: 0 Status: OK PackageFile: metahdep_1.68.0.tar.gz PackageFileSize: 550.3 KiB