Package: metahdep Version: 1.67.0 Command: /Library/Frameworks/R.framework/Resources/bin/R CMD INSTALL metahdep StartedAt: 2025-10-06 15:01:36 -0400 (Mon, 06 Oct 2025) EndedAt: 2025-10-06 15:01:37 -0400 (Mon, 06 Oct 2025) EllapsedTime: 1.9 seconds RetCode: 0 Status: OK