Package: metahdep Version: 1.67.0 Command: /Library/Frameworks/R.framework/Resources/bin/R CMD build --keep-empty-dirs --no-resave-data metahdep StartedAt: 2025-10-07 16:57:26 -0400 (Tue, 07 Oct 2025) EndedAt: 2025-10-07 16:57:31 -0400 (Tue, 07 Oct 2025) EllapsedTime: 5.1 seconds RetCode: 0 Status: OK PackageFile: metahdep_1.67.0.tar.gz PackageFileSize: 551.1 KiB