Package: metabomxtr Version: 1.43.0 Command: /home/biocbuild/bbs-3.22-bioc/R/bin/R CMD check --install=check:metabomxtr.install-out.txt --library=/home/biocbuild/bbs-3.22-bioc/R/site-library --timings metabomxtr_1.43.0.tar.gz StartedAt: 2025-09-22 01:27:05 -0400 (Mon, 22 Sep 2025) EndedAt: 2025-09-22 01:28:51 -0400 (Mon, 22 Sep 2025) EllapsedTime: 106.1 seconds RetCode: 0 Status: OK CheckDir: metabomxtr.Rcheck Warnings: 0