Package: metabomxtr Version: 1.45.0 Command: /home/biocbuild/bbs-3.23-bioc/R/bin/R CMD INSTALL metabomxtr StartedAt: 2025-11-07 15:12:26 -0500 (Fri, 07 Nov 2025) EndedAt: 2025-11-07 15:12:36 -0500 (Fri, 07 Nov 2025) EllapsedTime: 9.9 seconds RetCode: 0 Status: OK