Package: metabolomicsWorkbenchR Version: 1.19.0 Command: /home/biocbuild/R/R/bin/R CMD INSTALL metabolomicsWorkbenchR StartedAt: 2025-10-06 20:46:50 -0000 (Mon, 06 Oct 2025) EndedAt: 2025-10-06 20:47:24 -0000 (Mon, 06 Oct 2025) EllapsedTime: 34.1 seconds RetCode: 0 Status: OK