Package: metabolomicsWorkbenchR Version: 1.19.0 Command: /home/biocbuild/R/R/bin/R CMD build --keep-empty-dirs --no-resave-data metabolomicsWorkbenchR StartedAt: 2025-10-07 00:51:56 -0000 (Tue, 07 Oct 2025) EndedAt: 2025-10-07 00:53:02 -0000 (Tue, 07 Oct 2025) EllapsedTime: 66.0 seconds RetCode: 0 Status: OK PackageFile: metabolomicsWorkbenchR_1.19.0.tar.gz PackageFileSize: 2.464 MiB