Package: metabolomicsWorkbenchR Version: 1.21.0 Command: /home/biocbuild/bbs-3.23-bioc/R/bin/R CMD check --install=check:metabolomicsWorkbenchR.install-out.txt --library=/home/biocbuild/bbs-3.23-bioc/R/site-library --timings metabolomicsWorkbenchR_1.21.0.tar.gz StartedAt: 2025-11-07 00:55:16 -0500 (Fri, 07 Nov 2025) EndedAt: 2025-11-07 00:58:38 -0500 (Fri, 07 Nov 2025) EllapsedTime: 202.3 seconds RetCode: 0 Status: OK CheckDir: metabolomicsWorkbenchR.Rcheck Warnings: 0