Package: metabinR Version: 1.11.0 Command: /home/biocbuild/R/R/bin/R CMD INSTALL metabinR StartedAt: 2025-10-23 20:18:17 -0000 (Thu, 23 Oct 2025) EndedAt: 2025-10-23 20:18:54 -0000 (Thu, 23 Oct 2025) EllapsedTime: 37.6 seconds RetCode: 0 Status: OK