Package: metabinR Version: 1.11.0 Command: /home/biocbuild/R/R/bin/R CMD build --keep-empty-dirs --no-resave-data metabinR StartedAt: 2025-10-21 01:02:17 -0000 (Tue, 21 Oct 2025) EndedAt: 2025-10-21 01:03:06 -0000 (Tue, 21 Oct 2025) EllapsedTime: 49.0 seconds RetCode: 0 Status: OK PackageFile: metabinR_1.11.0.tar.gz PackageFileSize: 4.365 MiB