Package: metabinR Version: 1.11.0 Command: /Library/Frameworks/R.framework/Resources/bin/R CMD INSTALL metabinR StartedAt: 2025-10-24 15:13:24 -0400 (Fri, 24 Oct 2025) EndedAt: 2025-10-24 15:14:04 -0400 (Fri, 24 Oct 2025) EllapsedTime: 39.5 seconds RetCode: 0 Status: OK