Package: metabinR Version: 1.11.0 Command: /Library/Frameworks/R.framework/Resources/bin/R CMD build --keep-empty-dirs --no-resave-data metabinR StartedAt: 2025-10-24 17:42:20 -0400 (Fri, 24 Oct 2025) EndedAt: 2025-10-24 17:43:10 -0400 (Fri, 24 Oct 2025) EllapsedTime: 50.3 seconds RetCode: 0 Status: OK PackageFile: metabinR_1.11.0.tar.gz PackageFileSize: 4.388 MiB