Package: metabinR Version: 1.11.0 Command: rm -rf metabinR.buildbin-libdir && mkdir metabinR.buildbin-libdir && /Users/biocbuild/BBS/utils/build-universal.sh metabinR_1.11.0.tar.gz /Library/Frameworks/R.framework/Resources/bin/R metabinR.buildbin-libdir StartedAt: 2025-10-25 01:48:36 -0400 (Sat, 25 Oct 2025) EndedAt: 2025-10-25 01:48:44 -0400 (Sat, 25 Oct 2025) EllapsedTime: 8.1 seconds RetCode: 0 Status: OK PackageFile: metabinR_1.11.0.tgz PackageFileSize: 4.366 MiB