Package: metabCombiner Version: 1.19.0 Command: /home/biocbuild/R/R/bin/R CMD INSTALL metabCombiner StartedAt: 2025-10-02 20:32:10 -0000 (Thu, 02 Oct 2025) EndedAt: 2025-10-02 20:32:37 -0000 (Thu, 02 Oct 2025) EllapsedTime: 26.6 seconds RetCode: 0 Status: OK