Package: metabCombiner Version: 1.19.0 Command: /home/biocbuild/bbs-3.22-bioc/R/bin/R CMD INSTALL metabCombiner StartedAt: 2025-10-03 15:11:15 -0400 (Fri, 03 Oct 2025) EndedAt: 2025-10-03 15:11:32 -0400 (Fri, 03 Oct 2025) EllapsedTime: 17.2 seconds RetCode: 0 Status: OK