Package: metabCombiner Version: 1.21.0 Command: /home/biocbuild/bbs-3.23-bioc/R/bin/R CMD INSTALL metabCombiner StartedAt: 2025-11-20 15:11:35 -0500 (Thu, 20 Nov 2025) EndedAt: 2025-11-20 15:11:52 -0500 (Thu, 20 Nov 2025) EllapsedTime: 16.7 seconds RetCode: 0 Status: OK