Package: metabCombiner Version: 1.19.0 Command: /Library/Frameworks/R.framework/Resources/bin/R CMD INSTALL metabCombiner StartedAt: 2025-10-03 15:13:51 -0400 (Fri, 03 Oct 2025) EndedAt: 2025-10-03 15:14:24 -0400 (Fri, 03 Oct 2025) EllapsedTime: 33.8 seconds RetCode: 0 Status: OK