Package: metabCombiner Version: 1.19.0 Command: /Library/Frameworks/R.framework/Resources/bin/R CMD build --keep-empty-dirs --no-resave-data metabCombiner StartedAt: 2025-10-03 17:43:35 -0400 (Fri, 03 Oct 2025) EndedAt: 2025-10-03 17:44:28 -0400 (Fri, 03 Oct 2025) EllapsedTime: 52.8 seconds RetCode: 0 Status: OK PackageFile: metabCombiner_1.19.0.tar.gz PackageFileSize: 2.553 MiB