Package: metaSeq Version: 1.51.0 Command: /home/biocbuild/bbs-3.23-bioc/R/bin/R CMD INSTALL metaSeq StartedAt: 2025-11-20 15:12:54 -0500 (Thu, 20 Nov 2025) EndedAt: 2025-11-20 15:13:02 -0500 (Thu, 20 Nov 2025) EllapsedTime: 8.1 seconds RetCode: 0 Status: OK