Package: metaSeq Version: 1.51.0 Command: /home/biocbuild/bbs-3.23-bioc/R/bin/R CMD build --keep-empty-dirs --no-resave-data metaSeq StartedAt: 2025-11-20 18:32:59 -0500 (Thu, 20 Nov 2025) EndedAt: 2025-11-20 18:33:13 -0500 (Thu, 20 Nov 2025) EllapsedTime: 13.0 seconds RetCode: 0 Status: OK PackageFile: metaSeq_1.51.0.tar.gz PackageFileSize: 6.198 MiB