Package: metaSeq Version: 1.49.0 Command: /Library/Frameworks/R.framework/Resources/bin/R CMD INSTALL metaSeq StartedAt: 2025-10-15 15:15:43 -0400 (Wed, 15 Oct 2025) EndedAt: 2025-10-15 15:15:57 -0400 (Wed, 15 Oct 2025) EllapsedTime: 14.1 seconds RetCode: 0 Status: OK