Package: metaSeq Version: 1.49.0 Command: /Library/Frameworks/R.framework/Resources/bin/R CMD build --keep-empty-dirs --no-resave-data metaSeq StartedAt: 2025-10-15 18:00:16 -0400 (Wed, 15 Oct 2025) EndedAt: 2025-10-15 18:00:38 -0400 (Wed, 15 Oct 2025) EllapsedTime: 21.8 seconds RetCode: 0 Status: OK PackageFile: metaSeq_1.49.0.tar.gz PackageFileSize: 6.197 MiB