Package: metaSeq Version: 1.49.0 Command: rm -rf metaSeq.buildbin-libdir && mkdir metaSeq.buildbin-libdir && /Users/biocbuild/BBS/utils/build-universal.sh metaSeq_1.49.0.tar.gz /Library/Frameworks/R.framework/Resources/bin/R metaSeq.buildbin-libdir StartedAt: 2025-10-16 03:02:07 -0400 (Thu, 16 Oct 2025) EndedAt: 2025-10-16 03:02:20 -0400 (Thu, 16 Oct 2025) EllapsedTime: 12.9 seconds RetCode: 0 Status: OK PackageFile: metaSeq_1.49.0.tgz PackageFileSize: 6.179 MiB