Package: metaSeq Version: 1.49.0 Command: /Library/Frameworks/R.framework/Resources/bin/R CMD INSTALL metaSeq StartedAt: 2025-10-03 15:07:30 -0400 (Fri, 03 Oct 2025) EndedAt: 2025-10-03 15:07:33 -0400 (Fri, 03 Oct 2025) EllapsedTime: 2.9 seconds RetCode: 0 Status: OK