Package: metaSeq Version: 1.49.0 Command: /Library/Frameworks/R.framework/Resources/bin/R CMD build --keep-empty-dirs --no-resave-data metaSeq StartedAt: 2025-10-03 16:56:03 -0400 (Fri, 03 Oct 2025) EndedAt: 2025-10-03 16:56:09 -0400 (Fri, 03 Oct 2025) EllapsedTime: 6.1 seconds RetCode: 0 Status: OK PackageFile: metaSeq_1.49.0.tar.gz PackageFileSize: 6.198 MiB