Package: metaSeq Version: 1.51.0 Maintainer: Koki Tsuyuzaki MaintainerEmail: k.t.the-answer at hotmail.co.jp git_url: https://git.bioconductor.org/packages/metaSeq git_branch: devel git_last_commit: 7de2dd7 git_last_commit_date: 2025-10-29 10:17:11 -0400 (Wed, 29 Oct 2025)