Package: metaMS Version: 1.47.0 Command: /Library/Frameworks/R.framework/Resources/bin/R CMD INSTALL metaMS StartedAt: 2025-11-21 15:47:18 -0500 (Fri, 21 Nov 2025) EndedAt: 2025-11-21 15:48:23 -0500 (Fri, 21 Nov 2025) EllapsedTime: 65.5 seconds RetCode: 0 Status: OK