Package: metaMS Version: 1.47.0 Command: /Library/Frameworks/R.framework/Resources/bin/R CMD build --keep-empty-dirs --no-resave-data metaMS StartedAt: 2025-11-21 17:38:12 -0500 (Fri, 21 Nov 2025) EndedAt: 2025-11-21 17:39:34 -0500 (Fri, 21 Nov 2025) EllapsedTime: 81.1 seconds RetCode: 0 Status: OK PackageFile: metaMS_1.47.0.tar.gz PackageFileSize: 3.816 MiB