Package: metaMS Version: 1.47.0 Command: rm -rf metaMS.buildbin-libdir && mkdir metaMS.buildbin-libdir && /Users/biocbuild/BBS/utils/build-universal.sh metaMS_1.47.0.tar.gz /Library/Frameworks/R.framework/Resources/bin/R metaMS.buildbin-libdir StartedAt: 2025-11-22 01:42:43 -0500 (Sat, 22 Nov 2025) EndedAt: 2025-11-22 01:43:52 -0500 (Sat, 22 Nov 2025) EllapsedTime: 69.3 seconds RetCode: 0 Status: OK PackageFile: metaMS_1.47.0.tgz PackageFileSize: 4.292 MiB