Package: metaCCA Version: 1.39.0 Command: /home/biocbuild/bbs-3.23-bioc/R/bin/R CMD INSTALL metaCCA StartedAt: 2025-11-20 15:01:30 -0500 (Thu, 20 Nov 2025) EndedAt: 2025-11-20 15:01:42 -0500 (Thu, 20 Nov 2025) EllapsedTime: 11.9 seconds RetCode: 0 Status: OK