Package: messina Version: 1.47.0 Command: /home/biocbuild/bbs-3.23-bioc/R/bin/R CMD INSTALL messina StartedAt: 2025-11-02 15:14:13 -0500 (Sun, 02 Nov 2025) EndedAt: 2025-11-02 15:15:00 -0500 (Sun, 02 Nov 2025) EllapsedTime: 46.6 seconds RetCode: 0 Status: OK