Package: messina Version: 1.47.0 Command: /home/biocbuild/bbs-3.23-bioc/R/bin/R CMD build --keep-empty-dirs --no-resave-data messina StartedAt: 2025-10-31 18:39:53 -0400 (Fri, 31 Oct 2025) EndedAt: 2025-10-31 18:41:11 -0400 (Fri, 31 Oct 2025) EllapsedTime: 78.1 seconds RetCode: 0 Status: OK PackageFile: messina_1.47.0.tar.gz PackageFileSize: 297.5 KiB