Package: messina Version: 1.45.0 Command: /Library/Frameworks/R.framework/Resources/bin/R CMD INSTALL messina StartedAt: 2025-10-06 15:09:18 -0400 (Mon, 06 Oct 2025) EndedAt: 2025-10-06 15:10:04 -0400 (Mon, 06 Oct 2025) EllapsedTime: 46.6 seconds RetCode: 0 Status: OK