Package: messina Version: 1.45.0 Command: /Library/Frameworks/R.framework/Resources/bin/R CMD build --keep-empty-dirs --no-resave-data messina StartedAt: 2025-10-06 17:44:45 -0400 (Mon, 06 Oct 2025) EndedAt: 2025-10-06 17:46:38 -0400 (Mon, 06 Oct 2025) EllapsedTime: 112.9 seconds RetCode: 0 Status: OK PackageFile: messina_1.45.0.tar.gz PackageFileSize: 297.2 KiB