Package: meshr Version: 2.15.0 Command: F:\biocbuild\bbs-3.22-bioc\R\bin\R.exe CMD INSTALL meshr StartedAt: 2025-08-14 16:14:11 -0400 (Thu, 14 Aug 2025) EndedAt: 2025-08-14 16:14:47 -0400 (Thu, 14 Aug 2025) EllapsedTime: 36.0 seconds RetCode: 0 Status: OK