Package: meshr Version: 2.15.0 Command: chmod a+r meshr -R && F:\biocbuild\bbs-3.22-bioc\R\bin\R.exe CMD build --keep-empty-dirs --no-resave-data meshr StartedAt: 2025-08-14 21:18:32 -0400 (Thu, 14 Aug 2025) EndedAt: 2025-08-14 21:19:19 -0400 (Thu, 14 Aug 2025) EllapsedTime: 46.7 seconds RetCode: 0 Status: OK PackageFile: meshr_2.15.0.tar.gz PackageFileSize: 1002 KiB