Package: meshr Version: 2.15.0 Command: rm -rf meshr.buildbin-libdir && mkdir meshr.buildbin-libdir && F:\biocbuild\bbs-3.22-bioc\R\bin\R.exe CMD INSTALL --build --library=meshr.buildbin-libdir meshr_2.15.0.tar.gz StartedAt: 2025-08-15 10:39:07 -0400 (Fri, 15 Aug 2025) EndedAt: 2025-08-15 10:39:52 -0400 (Fri, 15 Aug 2025) EllapsedTime: 45.1 seconds RetCode: 0 Status: OK PackageFile: meshr_2.15.0.zip PackageFileSize: 934.9 KiB