Package: meshr Version: 2.17.0 Command: /home/biocbuild/bbs-3.23-bioc/R/bin/R CMD INSTALL meshr StartedAt: 2025-11-05 15:37:07 -0500 (Wed, 05 Nov 2025) EndedAt: 2025-11-05 15:37:28 -0500 (Wed, 05 Nov 2025) EllapsedTime: 20.8 seconds RetCode: 0 Status: OK