Package: meshr Version: 2.17.0 Command: /home/biocbuild/bbs-3.23-bioc/R/bin/R CMD check --install=check:meshr.install-out.txt --library=/home/biocbuild/bbs-3.23-bioc/R/site-library --timings meshr_2.17.0.tar.gz StartedAt: 2025-11-07 00:53:56 -0500 (Fri, 07 Nov 2025) EndedAt: 2025-11-07 00:56:07 -0500 (Fri, 07 Nov 2025) EllapsedTime: 130.3 seconds RetCode: 0 Status: OK CheckDir: meshr.Rcheck Warnings: 0