Package: meshr Version: 2.17.0 Command: /home/biocbuild/bbs-3.23-bioc/R/bin/R CMD build --keep-empty-dirs --no-resave-data meshr StartedAt: 2025-11-05 18:32:30 -0500 (Wed, 05 Nov 2025) EndedAt: 2025-11-05 18:32:53 -0500 (Wed, 05 Nov 2025) EllapsedTime: 23.0 seconds RetCode: 0 Status: OK PackageFile: meshr_2.17.0.tar.gz PackageFileSize: 1002 KiB