Package: meshes Version: 1.35.0 Command: /home/biocbuild/bbs-3.22-bioc/R/bin/R CMD check --install=check:meshes.install-out.txt --library=/home/biocbuild/bbs-3.22-bioc/R/site-library --timings meshes_1.35.0.tar.gz StartedAt: 2025-10-24 01:07:44 -0400 (Fri, 24 Oct 2025) EndedAt: 2025-10-24 01:10:38 -0400 (Fri, 24 Oct 2025) EllapsedTime: 174.2 seconds RetCode: 0 Status: OK CheckDir: meshes.Rcheck Warnings: 0