Package: meshes Version: 1.37.0 Command: /home/biocbuild/bbs-3.23-bioc/R/bin/R CMD INSTALL meshes StartedAt: 2025-11-05 15:53:51 -0500 (Wed, 05 Nov 2025) EndedAt: 2025-11-05 15:54:17 -0500 (Wed, 05 Nov 2025) EllapsedTime: 26.3 seconds RetCode: 0 Status: OK